BEGIN:VCALENDAR
VERSION:2.0
PRODID:-//AudioTheme 2.3.8
BEGIN:VEVENT
UID:urn:uuid:a772b417-0bc8-42d8-9bba-8aeb91b49dbf
URL:https://mitchmcvicker.com/concerts/gig-2968/
DTSTART;VALUE=DATE:20030926
SUMMARY:Veterans' Memorial Civic Center
LOCATION:Veterans' Memorial Civic Center\, Lima\, OH
END:VEVENT
END:VCALENDAR
