BEGIN:VCALENDAR
VERSION:2.0
PRODID:-//AudioTheme 2.3.8
BEGIN:VEVENT
UID:urn:uuid:8f7dc4e4-9995-4141-b0b6-16b4641e19f3
URL:https://mitchmcvicker.com/concerts/gig-2964/
DTSTART;VALUE=DATE:20030920
SUMMARY:St. John's Arena
LOCATION:St. John's Arena\, Steubenville\, OH
END:VEVENT
END:VCALENDAR
