BEGIN:VCALENDAR
VERSION:2.0
PRODID:-//AudioTheme 2.3.8
BEGIN:VEVENT
UID:urn:uuid:db395f0b-9541-48cd-b626-3ab18c44fa02
URL:https://mitchmcvicker.com/concerts/gig-2962/
DTSTART;VALUE=DATE:20030919
SUMMARY:Lighthouse Ministries
LOCATION:Lighthouse Ministries\, Columbus\, OH
END:VEVENT
END:VCALENDAR
