BEGIN:VCALENDAR
VERSION:2.0
PRODID:-//AudioTheme 2.3.8
BEGIN:VEVENT
UID:urn:uuid:d92a4979-4373-4907-a394-f67c325bb8e5
URL:https://mitchmcvicker.com/concerts/gig-2958/
DTSTART;VALUE=DATE:20030917
SUMMARY:The Gathering Place
LOCATION:The Gathering Place\, St.Louis\, MO
END:VEVENT
END:VCALENDAR
