BEGIN:VCALENDAR
VERSION:2.0
PRODID:-//AudioTheme 2.3.8
BEGIN:VEVENT
UID:urn:uuid:407e8365-e6ad-49cd-88ef-6431027cd5dd
URL:https://mitchmcvicker.com/concerts/gig-2956/
DTSTART;VALUE=DATE:20030913
SUMMARY:Weaver High School Auditorium
LOCATION:Weaver High School Auditorium\, Hartford\, CT
END:VEVENT
END:VCALENDAR
