BEGIN:VCALENDAR
VERSION:2.0
PRODID:-//AudioTheme 2.3.8
BEGIN:VEVENT
UID:urn:uuid:c356e4e8-77c7-4472-9bd7-cce618dd8755
URL:https://mitchmcvicker.com/concerts/gig-2954/
DTSTART;VALUE=DATE:20030912
SUMMARY:Mid Vermont Christian School
LOCATION:Mid Vermont Christian School\, White River Junction\, VT
END:VEVENT
END:VCALENDAR
