BEGIN:VCALENDAR
VERSION:2.0
PRODID:-//AudioTheme 2.3.8
BEGIN:VEVENT
UID:urn:uuid:48f44a7e-2c55-43cb-9a57-d56952b13303
URL:https://mitchmcvicker.com/concerts/gig-2952/
DTSTART;VALUE=DATE:20030911
SUMMARY:Procter's Theater
LOCATION:Procter's Theater\, Schenectady\, NY
END:VEVENT
END:VCALENDAR
