BEGIN:VCALENDAR
VERSION:2.0
PRODID:-//AudioTheme 2.3.8
BEGIN:VEVENT
UID:urn:uuid:3a13614d-e900-4d44-91ed-8e1b7e5e8d23
URL:https://mitchmcvicker.com/concerts/gig-2948/
DTSTART;VALUE=DATE:20030908
SUMMARY:Kansas State Fair-"Kansas Sings Program"
LOCATION:Kansas State Fair-"Kansas Sings Program"\, Hutchinson\, KS
END:VEVENT
END:VCALENDAR
