BEGIN:VCALENDAR
VERSION:2.0
PRODID:-//AudioTheme 2.3.8
BEGIN:VEVENT
UID:urn:uuid:415173e6-750b-486c-bdf2-1b4d7618d0e0
URL:https://mitchmcvicker.com/concerts/gig-2946/
DTSTART;VALUE=DATE:20030907
SUMMARY:Shawnee Heights United Methodist Church
LOCATION:Shawnee Heights United Methodist Church\, Tecumseh\, KS
END:VEVENT
END:VCALENDAR
