BEGIN:VCALENDAR
VERSION:2.0
PRODID:-//AudioTheme 2.3.8
BEGIN:VEVENT
UID:urn:uuid:4e640797-c95b-4d04-955d-d30d8e5329ac
URL:https://mitchmcvicker.com/concerts/gig-2944/
DTSTART;VALUE=DATE:20030904
SUMMARY:Emmanuel Wesleyan Church
LOCATION:Emmanuel Wesleyan Church\, Salsbury\, MD
END:VEVENT
END:VCALENDAR
