BEGIN:VCALENDAR
VERSION:2.0
PRODID:-//AudioTheme 2.3.8
BEGIN:VEVENT
UID:urn:uuid:996606cd-4cac-47f6-ac6e-2a0f58582ccb
URL:https://mitchmcvicker.com/concerts/gig-2942/
DTSTART;VALUE=DATE:20030905
SUMMARY:Faith Christian Center
LOCATION:Faith Christian Center\, Bedford\, NH
END:VEVENT
END:VCALENDAR
