BEGIN:VCALENDAR
VERSION:2.0
PRODID:-//AudioTheme 2.3.8
BEGIN:VEVENT
UID:urn:uuid:21651c44-0f46-4669-b551-cfc11e7c89ea
URL:https://mitchmcvicker.com/concerts/gig-2940/
DTSTART;VALUE=DATE:20030906
SUMMARY:Bangor Baptist Church
LOCATION:Bangor Baptist Church\, Bangor\, ME
END:VEVENT
END:VCALENDAR
