BEGIN:VCALENDAR
VERSION:2.0
PRODID:-//AudioTheme 2.3.8
BEGIN:VEVENT
UID:urn:uuid:ff5fdbab-ea04-40b9-ad2e-3da8f84f82f8
URL:https://mitchmcvicker.com/concerts/gig-2934/
DTSTART;VALUE=DATE:20030816
SUMMARY:The Fresh Fish Festival
LOCATION:The Fresh Fish Festival\, Black River Falls\, WI
END:VEVENT
END:VCALENDAR
