BEGIN:VCALENDAR
VERSION:2.0
PRODID:-//AudioTheme 2.3.8
BEGIN:VEVENT
UID:urn:uuid:0e6f1de6-f396-482b-8595-b7927e5f6c53
URL:https://mitchmcvicker.com/concerts/gig-2932/
DTSTART;VALUE=DATE:20030802
SUMMARY:Inside Out Soul Festival
LOCATION:Inside Out Soul Festival\, Lincoln\, NH
END:VEVENT
END:VCALENDAR
