BEGIN:VCALENDAR
VERSION:2.0
PRODID:-//AudioTheme 2.3.8
BEGIN:VEVENT
UID:urn:uuid:af635167-caaf-49b2-93a8-19b29e11302f
URL:https://mitchmcvicker.com/concerts/gig-2930/
DTSTART;VALUE=DATE:20030730
SUMMARY:Edgefield Baptist Church
LOCATION:Edgefield Baptist Church\, Greensboro\, NC
END:VEVENT
END:VCALENDAR
