BEGIN:VCALENDAR
VERSION:2.0
PRODID:-//AudioTheme 2.3.8
BEGIN:VEVENT
UID:urn:uuid:dfc12c41-5879-4b5e-8b3e-97b6d890d778
URL:https://mitchmcvicker.com/concerts/gig-2926/
DTSTART;VALUE=DATE:20030720
SUMMARY:Sardinia Christian Church
LOCATION:Sardinia Christian Church\, Bryant\, IN
END:VEVENT
END:VCALENDAR
