BEGIN:VCALENDAR
VERSION:2.0
PRODID:-//AudioTheme 2.3.8
BEGIN:VEVENT
UID:urn:uuid:702905b8-2891-4b4c-8453-3e705c2c2416
URL:https://mitchmcvicker.com/concerts/gig-2924/
DTSTART;VALUE=DATE:20030719
SUMMARY:The Mocha Room
LOCATION:The Mocha Room\, Decatur\, IN
END:VEVENT
END:VCALENDAR
