BEGIN:VCALENDAR
VERSION:2.0
PRODID:-//AudioTheme 2.3.8
BEGIN:VEVENT
UID:urn:uuid:b613de37-fcc8-48d3-bef8-059bf39772cc
URL:https://mitchmcvicker.com/concerts/gig-2922/
DTSTART;VALUE=DATE:20030718
SUMMARY:Community Bible Church
LOCATION:Community Bible Church\, Washington\, IL
END:VEVENT
END:VCALENDAR
