BEGIN:VCALENDAR
VERSION:2.0
PRODID:-//AudioTheme 2.3.8
BEGIN:VEVENT
UID:urn:uuid:0bdd8c62-c838-45b9-a254-29617d17c3be
URL:https://mitchmcvicker.com/concerts/gig-2920/
DTSTART;VALUE=DATE:20030712
SUMMARY:Sonshine Festival
LOCATION:Sonshine Festival\, Willmar\, MN
END:VEVENT
END:VCALENDAR
