BEGIN:VCALENDAR
VERSION:2.0
PRODID:-//AudioTheme 2.3.8
BEGIN:VEVENT
UID:urn:uuid:be151134-b0fb-40d7-9e6a-195d43eac86e
URL:https://mitchmcvicker.com/concerts/gig-2919/
DTSTART;VALUE=DATE:20030711
SUMMARY:LiFest-Sunnyview Fairgrounds
LOCATION:LiFest-Sunnyview Fairgrounds\, OshKosh\, WI
END:VEVENT
END:VCALENDAR
