BEGIN:VCALENDAR
VERSION:2.0
PRODID:-//AudioTheme 2.3.8
BEGIN:VEVENT
UID:urn:uuid:d1c5cb3c-e9fb-430a-b2b2-ff2afaf117ef
URL:https://mitchmcvicker.com/concerts/gig-2917/
DTSTART;VALUE=DATE:20030710
SUMMARY:Faith Tabernacle
LOCATION:Faith Tabernacle\, Pekin\, IL
END:VEVENT
END:VCALENDAR
