BEGIN:VCALENDAR
VERSION:2.0
PRODID:-//AudioTheme 2.3.8
BEGIN:VEVENT
UID:urn:uuid:7c45a000-337d-4b95-a247-7a51900f19f0
URL:https://mitchmcvicker.com/concerts/gig-2915/
DTSTART;VALUE=DATE:20030706
SUMMARY:Connection Church
LOCATION:Connection Church\, 2938 North Ave.\, Grand Junction\, CO\, USA
END:VEVENT
END:VCALENDAR
