BEGIN:VCALENDAR
VERSION:2.0
PRODID:-//AudioTheme 2.3.8
BEGIN:VEVENT
UID:urn:uuid:a921c421-d39b-4b74-9869-5143acf2462b
URL:https://mitchmcvicker.com/concerts/gig-2914/
DTSTART;VALUE=DATE:20030705
SUMMARY:Cornerstone Festival
LOCATION:Cornerstone Festival\, Bushnell\, IL
END:VEVENT
END:VCALENDAR
