BEGIN:VCALENDAR
VERSION:2.0
PRODID:-//AudioTheme 2.3.8
BEGIN:VEVENT
UID:urn:uuid:a643ef3a-c0b1-4e75-b6d8-41dbc5c225ca
URL:https://mitchmcvicker.com/concerts/gig-2912/
DTSTART;VALUE=DATE:20030630
SUMMARY:Cornerstone Festival
LOCATION:Cornerstone Festival\, Bushnell\, IL
END:VEVENT
END:VCALENDAR
