BEGIN:VCALENDAR
VERSION:2.0
PRODID:-//AudioTheme 2.3.8
BEGIN:VEVENT
UID:urn:uuid:c17d6d24-26c8-4185-9981-2fe1abdfabd7
URL:https://mitchmcvicker.com/concerts/gig-2910/
DTSTART;VALUE=DATE:20030629
SUMMARY:Calvary Temple-Freedom Fest
LOCATION:Calvary Temple-Freedom Fest\, Springfield\, IL
END:VEVENT
END:VCALENDAR
