BEGIN:VCALENDAR
VERSION:2.0
PRODID:-//AudioTheme 2.3.8
BEGIN:VEVENT
UID:urn:uuid:d8a9a3b2-ed63-46c3-89b3-b44faa2c28da
URL:https://mitchmcvicker.com/concerts/gig-2908/
DTSTART;VALUE=DATE:20030601
SUMMARY:Faith Evangelical Church
LOCATION:Faith Evangelical Church\, Sumner\, IA
END:VEVENT
END:VCALENDAR
