BEGIN:VCALENDAR
VERSION:2.0
PRODID:-//AudioTheme 2.3.8
BEGIN:VEVENT
UID:urn:uuid:bb23c3c0-0a0f-49b6-8c2d-d3fff76bbc1a
URL:https://mitchmcvicker.com/concerts/gig-2907/
DTSTART;VALUE=DATE:20030506
SUMMARY:Bellevue Christian Center-Heartland of Faith Men's Rally
LOCATION:Bellevue Christian Center-Heartland of Faith Men's Rally\, Bellevue\, NE
END:VEVENT
END:VCALENDAR
