BEGIN:VCALENDAR
VERSION:2.0
PRODID:-//AudioTheme 2.3.8
BEGIN:VEVENT
UID:urn:uuid:f5c49bc1-7707-4efc-baf0-e4aaa17d550d
URL:https://mitchmcvicker.com/concerts/gig-2905/
DTSTART;VALUE=DATE:20030524
SUMMARY:Jefferson Assembly of God
LOCATION:Jefferson Assembly of God\, Meriden\, KS
END:VEVENT
END:VCALENDAR
