BEGIN:VCALENDAR
VERSION:2.0
PRODID:-//AudioTheme 2.3.8
BEGIN:VEVENT
UID:urn:uuid:561c68b5-c470-4331-8cb1-8208dc3de405
URL:https://mitchmcvicker.com/concerts/gig-2904/
DTSTART;VALUE=DATE:20030521
SUMMARY:Gage Park Baptist Church
LOCATION:Gage Park Baptist Church\, Topeka\, KS
END:VEVENT
END:VCALENDAR
