BEGIN:VCALENDAR
VERSION:2.0
PRODID:-//AudioTheme 2.3.8
BEGIN:VEVENT
UID:urn:uuid:0ccc3450-9700-4137-878a-f8bdce90a57a
URL:https://mitchmcvicker.com/concerts/gig-2902/
DTSTART;VALUE=DATE:20030516
SUMMARY:Central Assembly of God-Sponsored by Greenville Special Olympics
LOCATION:Central Assembly of God-Sponsored by Greenville Special Olympics\, Greenville\, TX
END:VEVENT
END:VCALENDAR
