BEGIN:VCALENDAR
VERSION:2.0
PRODID:-//AudioTheme 2.3.8
BEGIN:VEVENT
UID:urn:uuid:8369221a-d8a9-479b-ae39-6afbca126e7a
URL:https://mitchmcvicker.com/concerts/gig-2900/
DTSTART;VALUE=DATE:20030513
SUMMARY:Rocketown Cafe
LOCATION:Rocketown Cafe\, Nashville\, TN
END:VEVENT
END:VCALENDAR
