BEGIN:VCALENDAR
VERSION:2.0
PRODID:-//AudioTheme 2.3.8
BEGIN:VEVENT
UID:urn:uuid:2fc1db58-bf17-4aaf-b234-49fb30524edd
URL:https://mitchmcvicker.com/concerts/gig-2898/
DTSTART;VALUE=DATE:20030509
SUMMARY:Corerstone Florida at Central Florida Fairgrounds
LOCATION:Corerstone Florida at Central Florida Fairgrounds\, Orlando\, FL
END:VEVENT
END:VCALENDAR
