BEGIN:VCALENDAR
VERSION:2.0
PRODID:-//AudioTheme 2.3.8
BEGIN:VEVENT
UID:urn:uuid:a56add0a-7944-4e9e-9128-7631bea348a8
URL:https://mitchmcvicker.com/concerts/gig-2895/
DTSTART;VALUE=DATE:20030505
SUMMARY:Sonrise Baptist Church
LOCATION:Sonrise Baptist Church\, Sioux Falls\, SD
END:VEVENT
END:VCALENDAR
