BEGIN:VCALENDAR
VERSION:2.0
PRODID:-//AudioTheme 2.3.8
BEGIN:VEVENT
UID:urn:uuid:91a6c203-d1d6-40ba-92a6-22170e6cccdd
URL:https://mitchmcvicker.com/concerts/gig-2893/
DTSTART;VALUE=DATE:20030504
SUMMARY:Mountain View Baptist Church
LOCATION:Mountain View Baptist Church\, Spearfish\, SD
END:VEVENT
END:VCALENDAR
