BEGIN:VCALENDAR
VERSION:2.0
PRODID:-//AudioTheme 2.3.8
BEGIN:VEVENT
UID:urn:uuid:4a7aeb69-7a5b-46e8-abd2-821062958de9
URL:https://mitchmcvicker.com/concerts/gig-2891/
DTSTART;VALUE=DATE:20030417
SUMMARY:Greenville College
LOCATION:Greenville College\, Greenville\, IL
END:VEVENT
END:VCALENDAR
