BEGIN:VCALENDAR
VERSION:2.0
PRODID:-//AudioTheme 2.3.8
BEGIN:VEVENT
UID:urn:uuid:53003d8c-8758-4ab0-aa3c-9424ddd35681
URL:https://mitchmcvicker.com/concerts/gig-2888/
DTSTART;VALUE=DATE:20030330
SUMMARY:Lutheran Church of the Master
LOCATION:Lutheran Church of the Master\, 580 Kuhn Rd.\, Carol Stream\, IL\, USA
END:VEVENT
END:VCALENDAR
