BEGIN:VCALENDAR
VERSION:2.0
PRODID:-//AudioTheme 2.3.8
BEGIN:VEVENT
UID:urn:uuid:290d61d1-143c-45c3-9a74-3b6915b72611
URL:https://mitchmcvicker.com/concerts/gig-2886/
DTSTART;VALUE=DATE:20030327
SUMMARY:The Refinery hosted by Bashor Children's Home
LOCATION:The Refinery hosted by Bashor Children's Home\, Goshen\, IN
END:VEVENT
END:VCALENDAR
