BEGIN:VCALENDAR
VERSION:2.0
PRODID:-//AudioTheme 2.3.8
BEGIN:VEVENT
UID:urn:uuid:934d21ad-b2dc-4237-8d97-cb0f6a5655a1
URL:https://mitchmcvicker.com/concerts/gig-2885/
DTSTART;VALUE=DATE:20030322
SUMMARY:Seekers Coffee House
LOCATION:Seekers Coffee House\, Middleburg Heights\, OH
END:VEVENT
END:VCALENDAR
