BEGIN:VCALENDAR
VERSION:2.0
PRODID:-//AudioTheme 2.3.8
BEGIN:VEVENT
UID:urn:uuid:0e2be6d0-eab5-41ab-b3be-94f6985e1f6e
URL:https://mitchmcvicker.com/concerts/gig-2884/
DTSTART;VALUE=DATE:20030316
SUMMARY:Mt. Hermon Lutheran Church
LOCATION:Mt. Hermon Lutheran Church\, 3011 Leaphart Rd.\, West Columbia\, SC
END:VEVENT
END:VCALENDAR
