BEGIN:VCALENDAR
VERSION:2.0
PRODID:-//AudioTheme 2.3.8
BEGIN:VEVENT
UID:urn:uuid:a735d1e2-4c01-4b56-b6a8-12186f07b3d8
URL:https://mitchmcvicker.com/concerts/gig-2882/
DTSTART;VALUE=DATE:20030301
SUMMARY:Countryside United Methodist Church
LOCATION:Countryside United Methodist Church\, Topeka\, KS
END:VEVENT
END:VCALENDAR
