BEGIN:VCALENDAR
VERSION:2.0
PRODID:-//AudioTheme 2.3.8
BEGIN:VEVENT
UID:urn:uuid:5c384e34-895e-4eaa-87d3-3e50f5ba526e
URL:https://mitchmcvicker.com/concerts/gig-2880/
DTSTART;VALUE=DATE:20030201
SUMMARY:First Baptist Church
LOCATION:First Baptist Church\, Chisholm\, MN
END:VEVENT
END:VCALENDAR
