BEGIN:VCALENDAR
VERSION:2.0
PRODID:-//AudioTheme 2.3.8
BEGIN:VEVENT
UID:urn:uuid:e5a7c613-d585-49fc-b4da-8834a0efb9f8
URL:https://mitchmcvicker.com/concerts/gig-2878/
DTSTART;VALUE=DATE:20030131
SUMMARY:Potter's Cup Coffeehouse
LOCATION:Potter's Cup Coffeehouse\, Bloomington\, IN
END:VEVENT
END:VCALENDAR
