BEGIN:VCALENDAR
VERSION:2.0
PRODID:-//AudioTheme 2.3.8
BEGIN:VEVENT
UID:urn:uuid:e32dc954-dc9f-4d9d-a7a6-954aad60a2d3
URL:https://mitchmcvicker.com/concerts/gig-2876/
DTSTART;TZID=GMT:20200406T000000
SUMMARY:Creve Coeur Christian Church
LOCATION:Creve Coeur Christian Church\, 101 S. Thorncrest Ave.\, Creve Coeur\, IL
END:VEVENT
END:VCALENDAR
