BEGIN:VCALENDAR
VERSION:2.0
PRODID:-//AudioTheme 2.3.8
BEGIN:VEVENT
UID:urn:uuid:5e656165-9aeb-4b89-b06c-75ca294e1bda
URL:https://mitchmcvicker.com/concerts/gig-2874/
DTSTART;VALUE=DATE:20041121
SUMMARY:Congregational Church
LOCATION:Congregational Church\, Amery\, WI
END:VEVENT
END:VCALENDAR
