BEGIN:VCALENDAR
VERSION:2.0
PRODID:-//AudioTheme 2.3.8
BEGIN:VEVENT
UID:urn:uuid:0884d021-017d-4791-b048-ac4ef6aa6fb9
URL:https://mitchmcvicker.com/concerts/gig-2872/
DTSTART;VALUE=DATE:20041119
SUMMARY:Blind Munchies Coffeehouse
LOCATION:Blind Munchies Coffeehouse\, Menomonie\, WI
END:VEVENT
END:VCALENDAR
