BEGIN:VCALENDAR
VERSION:2.0
PRODID:-//AudioTheme 2.3.8
BEGIN:VEVENT
UID:urn:uuid:ae2a09c3-f121-47c8-a431-5f49bc1b64dc
URL:https://mitchmcvicker.com/concerts/gig-2870/
DTSTART;VALUE=DATE:20041117
SUMMARY:Delwood Elementary School
LOCATION:Delwood Elementary School\, Delmar\, IA
END:VEVENT
END:VCALENDAR
