BEGIN:VCALENDAR
VERSION:2.0
PRODID:-//AudioTheme 2.3.8
BEGIN:VEVENT
UID:urn:uuid:f297ad29-6a52-448f-9bc1-c74d290ef293
URL:https://mitchmcvicker.com/concerts/gig-2868/
DTSTART;VALUE=DATE:20041114
SUMMARY:Westminster Presbyterian Church
LOCATION:Westminster Presbyterian Church\, Waterloo\, IA
END:VEVENT
END:VCALENDAR
