BEGIN:VCALENDAR
VERSION:2.0
PRODID:-//AudioTheme 2.3.8
BEGIN:VEVENT
UID:urn:uuid:2ea7c533-b3fe-4e17-beb6-9200b5f66b07
URL:https://mitchmcvicker.com/concerts/gig-2867/
DTSTART;VALUE=DATE:20041113
SUMMARY:Peoria Church of the Brethren
LOCATION:Peoria Church of the Brethren\, Peoria\, IL
END:VEVENT
END:VCALENDAR
