BEGIN:VCALENDAR
VERSION:2.0
PRODID:-//AudioTheme 2.3.8
BEGIN:VEVENT
UID:urn:uuid:68683b83-3d2f-4096-9eb4-06077271da0c
URL:https://mitchmcvicker.com/concerts/gig-2866/
DTSTART;VALUE=DATE:20041109
SUMMARY:Spring Arbor University
LOCATION:Spring Arbor University\, Spring Arbor\, MI
END:VEVENT
END:VCALENDAR
