BEGIN:VCALENDAR
VERSION:2.0
PRODID:-//AudioTheme 2.3.8
BEGIN:VEVENT
UID:urn:uuid:94a40df8-0111-4748-9a59-bf9a4c3a2239
URL:https://mitchmcvicker.com/concerts/gig-2864/
DTSTART;VALUE=DATE:20041107
SUMMARY:Stillmeadow Church of the Nazarene
LOCATION:Stillmeadow Church of the Nazarene\, York\, PA
END:VEVENT
END:VCALENDAR
